BEGIN:VCALENDAR
VERSION:2.0
PRODID:-//SOS Amherst - ECPv6.15.20//NONSGML v1.0//EN
CALSCALE:GREGORIAN
METHOD:PUBLISH
X-WR-CALNAME:SOS Amherst
X-ORIGINAL-URL:https://www.arpsparents.com
X-WR-CALDESC:Events for SOS Amherst
REFRESH-INTERVAL;VALUE=DURATION:PT1H
X-Robots-Tag:noindex
X-PUBLISHED-TTL:PT1H
BEGIN:VTIMEZONE
TZID:America/New_York
BEGIN:DAYLIGHT
TZOFFSETFROM:-0500
TZOFFSETTO:-0400
TZNAME:EDT
DTSTART:20230312T070000
END:DAYLIGHT
BEGIN:STANDARD
TZOFFSETFROM:-0400
TZOFFSETTO:-0500
TZNAME:EST
DTSTART:20231105T060000
END:STANDARD
BEGIN:DAYLIGHT
TZOFFSETFROM:-0500
TZOFFSETTO:-0400
TZNAME:EDT
DTSTART:20240310T070000
END:DAYLIGHT
BEGIN:STANDARD
TZOFFSETFROM:-0400
TZOFFSETTO:-0500
TZNAME:EST
DTSTART:20241103T060000
END:STANDARD
BEGIN:DAYLIGHT
TZOFFSETFROM:-0500
TZOFFSETTO:-0400
TZNAME:EDT
DTSTART:20250309T070000
END:DAYLIGHT
BEGIN:STANDARD
TZOFFSETFROM:-0400
TZOFFSETTO:-0500
TZNAME:EST
DTSTART:20251102T060000
END:STANDARD
END:VTIMEZONE
BEGIN:VEVENT
DTSTART;TZID=America/New_York:20241104T180000
DTEND;TZID=America/New_York:20241104T180000
DTSTAMP:20260420T164109
CREATED:20241016T050159Z
LAST-MODIFIED:20241027T161253Z
UID:1953-1730743200-1730743200@www.arpsparents.com
SUMMARY:Amherst Town Council Meeting and Financial Indicators Presentation (in person and virtual)
DESCRIPTION:Amherst Town Council Meeting and Financial Indicators Presentation (with Amherst School Committee\, Regional School Committee\, Finance Committee\, Budget Coordinating Group\, and Jones Library Trustees) \n\n\n\nIn-Person Meeting\, Town Room\, Town Hall\nVirtual Public Access: https://amherstma.zoom.us/j/82918600562\n\nNote: Members of the public may attend virtually via Zoom\, by phone by calling phone (301)\n715-8592\, enter webinar ID: 829 1860 0562\, or in person.\n\nThe meeting will also be live broadcast on Amherst Media channel 17 and https://amherstmedia.org/live-stream\nPosted October 16\, 2024 at 10:10 a.m.
URL:https://www.arpsparents.com/event/amherst-pelham-regional-school-committee-at-the-amherst-town-council-financial-indicators-meeting/
LOCATION:Amherst Town Hall\, 4 Boltwood Ave.\, Amherst
END:VEVENT
END:VCALENDAR