BEGIN:VCALENDAR
VERSION:2.0
PRODID:-//SOS Amherst - ECPv6.15.20//NONSGML v1.0//EN
CALSCALE:GREGORIAN
METHOD:PUBLISH
X-WR-CALNAME:SOS Amherst
X-ORIGINAL-URL:https://www.arpsparents.com
X-WR-CALDESC:Events for SOS Amherst
REFRESH-INTERVAL;VALUE=DURATION:PT1H
X-Robots-Tag:noindex
X-PUBLISHED-TTL:PT1H
BEGIN:VTIMEZONE
TZID:America/New_York
BEGIN:DAYLIGHT
TZOFFSETFROM:-0500
TZOFFSETTO:-0400
TZNAME:EDT
DTSTART:20230312T070000
END:DAYLIGHT
BEGIN:STANDARD
TZOFFSETFROM:-0400
TZOFFSETTO:-0500
TZNAME:EST
DTSTART:20231105T060000
END:STANDARD
BEGIN:DAYLIGHT
TZOFFSETFROM:-0500
TZOFFSETTO:-0400
TZNAME:EDT
DTSTART:20240310T070000
END:DAYLIGHT
BEGIN:STANDARD
TZOFFSETFROM:-0400
TZOFFSETTO:-0500
TZNAME:EST
DTSTART:20241103T060000
END:STANDARD
BEGIN:DAYLIGHT
TZOFFSETFROM:-0500
TZOFFSETTO:-0400
TZNAME:EDT
DTSTART:20250309T070000
END:DAYLIGHT
BEGIN:STANDARD
TZOFFSETFROM:-0400
TZOFFSETTO:-0500
TZNAME:EST
DTSTART:20251102T060000
END:STANDARD
END:VTIMEZONE
BEGIN:VEVENT
DTSTART;TZID=America/New_York:20241108T090000
DTEND;TZID=America/New_York:20241108T110000
DTSTAMP:20260420T164022
CREATED:20241107T115718Z
LAST-MODIFIED:20241107T115718Z
UID:2286-1731056400-1731063600@www.arpsparents.com
SUMMARY:11/8 Finance Committee Meeting (Virtual)
DESCRIPTION:Finance Committee\n\nFriday\, November 8\, 2024\n\nhttps://amherstma.zoom.us/j/85166756344\n\nLIST OF TOPICS:\n\nReview Agenda;\n\nPublic Comment: The time limit for each comment is 3 minutes per person\, unless the Chair sees a substantial number of people wishing to speak and limits comments to 2 minutes; comments must be limited to matters within the jurisdiction of the committee; comments must be made in a peaceable manner;\n\nDiscussion of Financial Indicators;\nFY24 Fourth Quarter Report;\nRescissions of Borrowing Authorization Requests\,\nCouncil Order – FY2513 An Order to Rescinding Authorized but Unissued Bonds\,\nSupplemental Budget Appropriation Requests\, \nCouncil Order FY25-12A: An Order Appropriating from Free Cash to the Stabilization Funds\, \nCouncil Order FY25-05B: An Order Appropriating Funds for a Portion of the Town of Amherst Capital Program – Road and Sidewalk Repairs\, \nCouncil Order FY25-05C: An Order Appropriating Funds for a Portion of the Town of Amherst Capital Program – Sidewalk Equipment\, Council Order FY25-05D: An Order Appropriating Funds for a Portion of the Town of Amherst Capital Program – Waste Hauler Study\, Council Order FY25-16A: An Order Appropriating from Free Cash to the Opioid Settlement Special Revenue Fund\, Budget Guidelines; \n\nMinutes\, Adoption of October 1\, 2024 meeting minutes; \nSchedule next Committee meetings; \nItems not anticipated by the Chair 48 Hours in advance.\n\n\nTO JOIN MEETING:\n\nTo join the meeting via Zoom teleconferencing go to: https://amherstma.zoom.us/j/85166756344 \nTo indicate you wish to make a comment click “raise hand” \nTo join the meeting via telephone call; (646) 931 3860 enter webinar ID 851 6675 6344 \nwhen prompted to enter your participant number press # \nTo indicate you wish to make a comment\, press *9 on your telephone \nDuring the public comment period\, the chair will recognize \n\n\n\n\nRECEIVED: 11/5/24 at 10:46 am.
URL:https://www.arpsparents.com/event/11-8-finance-committee-meeting-virtual/
LOCATION:VIrtual (details above)
END:VEVENT
END:VCALENDAR