BEGIN:VCALENDAR
VERSION:2.0
PRODID:-//SOS Amherst - ECPv6.15.20//NONSGML v1.0//EN
CALSCALE:GREGORIAN
METHOD:PUBLISH
X-WR-CALNAME:SOS Amherst
X-ORIGINAL-URL:https://www.arpsparents.com
X-WR-CALDESC:Events for SOS Amherst
REFRESH-INTERVAL;VALUE=DURATION:PT1H
X-Robots-Tag:noindex
X-PUBLISHED-TTL:PT1H
BEGIN:VTIMEZONE
TZID:America/New_York
BEGIN:DAYLIGHT
TZOFFSETFROM:-0500
TZOFFSETTO:-0400
TZNAME:EDT
DTSTART:20230312T070000
END:DAYLIGHT
BEGIN:STANDARD
TZOFFSETFROM:-0400
TZOFFSETTO:-0500
TZNAME:EST
DTSTART:20231105T060000
END:STANDARD
BEGIN:DAYLIGHT
TZOFFSETFROM:-0500
TZOFFSETTO:-0400
TZNAME:EDT
DTSTART:20240310T070000
END:DAYLIGHT
BEGIN:STANDARD
TZOFFSETFROM:-0400
TZOFFSETTO:-0500
TZNAME:EST
DTSTART:20241103T060000
END:STANDARD
BEGIN:DAYLIGHT
TZOFFSETFROM:-0500
TZOFFSETTO:-0400
TZNAME:EDT
DTSTART:20250309T070000
END:DAYLIGHT
BEGIN:STANDARD
TZOFFSETFROM:-0400
TZOFFSETTO:-0500
TZNAME:EST
DTSTART:20251102T060000
END:STANDARD
END:VTIMEZONE
BEGIN:VEVENT
DTSTART;TZID=America/New_York:20241118T183000
DTEND;TZID=America/New_York:20241118T200000
DTSTAMP:20260420T164103
CREATED:20241013T174248Z
LAST-MODIFIED:20241111T195904Z
UID:1803-1731954600-1731960000@www.arpsparents.com
SUMMARY:Amherst Town Council Public Meeting on Budget (in person and virtual)
DESCRIPTION:HOW TO TAKE ACTION: \n\nMake a public comment at the 11/18 Town Council Meeting at 6:30 PM\, in-person in the Town Room at Town Hall or via Zoom: https://amherstma.zoom.us/j/89382473012\nCan’t attend the meeting? Submit a public comment to the Town Council online.\nTake a few minutes to complete the SOS Amherst Survey to provide feedback on why our schools are important to you and your family\nForward this email to people in your networks and ask them to advocate for our schools\n\nWHAT YOU CAN SAY \n\nShare your story – How has your child or family been impacted by lack of adequate funding in our schools? Why are our public schools important to you and your experience in Amherst? Let the Town Council know that our public schools are a top priority for you and your family.\nAsk the Town Council to:\n\nInclude the full amount allotted to the Regional Schools last year in the base for calculating this year’s increase.\nAllocate as much money as possible to our schools this year\, and prioritize operating budgets over surplus generation.\nDistribute last year’s $5\,227\,426 surplus only after considering the needs of all stakeholders.\nAsk the Town Council and Finance Committee to prioritize our schools – including the middle and high school – in the Town Manager’s budget guidelines for FY26\n\n\n\nMeeting schedule: \n5:00 p.m. Regular meeting\, beginning with a Town Council Reading Period of Councilor Town Manager Evaluations\n6:30 p.m. Public Forum on the Fiscal Year 2026 Budget\n7:00 Public Forum on Supplemental Budget Appropriations \nThe regular Town Council meeting will resume following the 7:00 Public Forum
URL:https://www.arpsparents.com/event/amherst-town-council-public-meeting-on-budget/
LOCATION:Amherst Town Hall\, 4 Boltwood Ave.\, Amherst
END:VEVENT
END:VCALENDAR