BEGIN:VCALENDAR
VERSION:2.0
PRODID:-//SOS Amherst - ECPv6.15.20//NONSGML v1.0//EN
CALSCALE:GREGORIAN
METHOD:PUBLISH
X-ORIGINAL-URL:https://www.arpsparents.com
X-WR-CALDESC:Events for SOS Amherst
REFRESH-INTERVAL;VALUE=DURATION:PT1H
X-Robots-Tag:noindex
X-PUBLISHED-TTL:PT1H
BEGIN:VTIMEZONE
TZID:America/New_York
BEGIN:DAYLIGHT
TZOFFSETFROM:-0500
TZOFFSETTO:-0400
TZNAME:EDT
DTSTART:20230312T070000
END:DAYLIGHT
BEGIN:STANDARD
TZOFFSETFROM:-0400
TZOFFSETTO:-0500
TZNAME:EST
DTSTART:20231105T060000
END:STANDARD
BEGIN:DAYLIGHT
TZOFFSETFROM:-0500
TZOFFSETTO:-0400
TZNAME:EDT
DTSTART:20240310T070000
END:DAYLIGHT
BEGIN:STANDARD
TZOFFSETFROM:-0400
TZOFFSETTO:-0500
TZNAME:EST
DTSTART:20241103T060000
END:STANDARD
BEGIN:DAYLIGHT
TZOFFSETFROM:-0500
TZOFFSETTO:-0400
TZNAME:EDT
DTSTART:20250309T070000
END:DAYLIGHT
BEGIN:STANDARD
TZOFFSETFROM:-0400
TZOFFSETTO:-0500
TZNAME:EST
DTSTART:20251102T060000
END:STANDARD
END:VTIMEZONE
BEGIN:VEVENT
DTSTART;TZID=America/New_York:20241214T090000
DTEND;TZID=America/New_York:20241214T110000
DTSTAMP:20260420T112338
CREATED:20241213T130923Z
LAST-MODIFIED:20241213T130923Z
UID:2482-1734166800-1734174000@www.arpsparents.com
SUMMARY:Four Towns Meeting (in person only - no public comments)
DESCRIPTION:Four Towns Meeting 12/14 9:00 AM in the ARMS Library: Representatives from Amherst\, Pelham\, Shutesbury and Leverett will meet to discuss funding for the Regional Schools. There is no public comment at this meeting\, but members of the public are welcome to attend – and it’s always good to let our public officials know we are paying attention and that our kids at ARMS & ARHS are still Amherst residents who deserve great schools. \n— \nDr. Xi and the Regional School Committee (RSC) are preparing for the next Four Towns Meeting on Saturday 12/14 at the Amherst Regional Middle School Library. Dr. Xi intends to present the four member towns with several scenarios\, all that use the 6% increase from FY25 in the base for calculating the increase for FY26. School Committee members were clear at the 12/10 RSC meeting that last spring\, all four member towns voted to include the additional $355\,440 for the Regional Schools and that amount now becomes part of the base\, and is not optional at this point. Dr. Xi stressed that she and her team really need to know now\, and not in several months\, what amount of money they can expect for FY26 as they are already planning on how to handle the deficit and need to know exactly how large it is.
URL:https://www.arpsparents.com/event/four-towns-meeting-in-person-only-no-public-comments/
LOCATION:Amherst Regional Middle School – Library\, 170 Chestnut St\, Amherst\, MA
END:VEVENT
END:VCALENDAR