BEGIN:VCALENDAR
VERSION:2.0
PRODID:-//SOS Amherst - ECPv6.15.20//NONSGML v1.0//EN
CALSCALE:GREGORIAN
METHOD:PUBLISH
X-ORIGINAL-URL:https://www.arpsparents.com
X-WR-CALDESC:Events for SOS Amherst
REFRESH-INTERVAL;VALUE=DURATION:PT1H
X-Robots-Tag:noindex
X-PUBLISHED-TTL:PT1H
BEGIN:VTIMEZONE
TZID:America/New_York
BEGIN:DAYLIGHT
TZOFFSETFROM:-0500
TZOFFSETTO:-0400
TZNAME:EDT
DTSTART:20240310T070000
END:DAYLIGHT
BEGIN:STANDARD
TZOFFSETFROM:-0400
TZOFFSETTO:-0500
TZNAME:EST
DTSTART:20241103T060000
END:STANDARD
BEGIN:DAYLIGHT
TZOFFSETFROM:-0500
TZOFFSETTO:-0400
TZNAME:EDT
DTSTART:20250309T070000
END:DAYLIGHT
BEGIN:STANDARD
TZOFFSETFROM:-0400
TZOFFSETTO:-0500
TZNAME:EST
DTSTART:20251102T060000
END:STANDARD
BEGIN:DAYLIGHT
TZOFFSETFROM:-0500
TZOFFSETTO:-0400
TZNAME:EDT
DTSTART:20260308T070000
END:DAYLIGHT
BEGIN:STANDARD
TZOFFSETFROM:-0400
TZOFFSETTO:-0500
TZNAME:EST
DTSTART:20261101T060000
END:STANDARD
END:VTIMEZONE
BEGIN:VEVENT
DTSTART;TZID=America/New_York:20250205T120000
DTEND;TZID=America/New_York:20250205T140000
DTSTAMP:20260420T075236
CREATED:20250201T145942Z
LAST-MODIFIED:20250201T145942Z
UID:2598-1738756800-1738764000@www.arpsparents.com
SUMMARY:Budget Coordinating Group (Virtual only)
DESCRIPTION:Call to Order\nElection of Chair and Vice-Chair\nPresentations and Discussion\n\nUpdated FY26 Budget Projections\n\n\nReport on Budget Status:\n\nLibrary\nSchool Departments\nTown\n\n\nDiscussion\nPublic Comment\nTopics Not Reasonably Anticipated by the Chair 48 Hours in Advance of the Meeting\nAdjourn\n\n\n\n\n\n\nVirtual Meeting https://amherstma.zoom.us/j/83071315031 \nNote: There will be no in-person public access at this meeting. Members of the public may attend virtually via Zoom https://amherstma.zoom.us/j/83071315031 or by phone by calling phone (646) 931 3860 enter webinar ID 83071315031 \n\n\n\n\n\n\nLink:\nClick to join the virtual meeting
URL:https://www.arpsparents.com/event/budget-coordinating-group-virtual-only/
LOCATION:VIrtual (details above)
END:VEVENT
END:VCALENDAR