BEGIN:VCALENDAR
VERSION:2.0
PRODID:-//SOS Amherst - ECPv6.15.20//NONSGML v1.0//EN
CALSCALE:GREGORIAN
METHOD:PUBLISH
X-ORIGINAL-URL:https://www.arpsparents.com
X-WR-CALDESC:Events for SOS Amherst
REFRESH-INTERVAL;VALUE=DURATION:PT1H
X-Robots-Tag:noindex
X-PUBLISHED-TTL:PT1H
BEGIN:VTIMEZONE
TZID:America/New_York
BEGIN:DAYLIGHT
TZOFFSETFROM:-0500
TZOFFSETTO:-0400
TZNAME:EDT
DTSTART:20240310T070000
END:DAYLIGHT
BEGIN:STANDARD
TZOFFSETFROM:-0400
TZOFFSETTO:-0500
TZNAME:EST
DTSTART:20241103T060000
END:STANDARD
BEGIN:DAYLIGHT
TZOFFSETFROM:-0500
TZOFFSETTO:-0400
TZNAME:EDT
DTSTART:20250309T070000
END:DAYLIGHT
BEGIN:STANDARD
TZOFFSETFROM:-0400
TZOFFSETTO:-0500
TZNAME:EST
DTSTART:20251102T060000
END:STANDARD
BEGIN:DAYLIGHT
TZOFFSETFROM:-0500
TZOFFSETTO:-0400
TZNAME:EDT
DTSTART:20260308T070000
END:DAYLIGHT
BEGIN:STANDARD
TZOFFSETFROM:-0400
TZOFFSETTO:-0500
TZNAME:EST
DTSTART:20261101T060000
END:STANDARD
END:VTIMEZONE
BEGIN:VEVENT
DTSTART;TZID=America/New_York:20250223T153000
DTEND;TZID=America/New_York:20250223T170000
DTSTAMP:20260420T075339
CREATED:20250220T223004Z
LAST-MODIFIED:20250220T223230Z
UID:2711-1740324600-1740330000@www.arpsparents.com
SUMMARY:District 4  Meeting (in person only)
DESCRIPTION:Attention residents of District 4 – Please attend this District 4 Meeting on Sunday 2/23\, 3:30-5 at the Amherst Police Department Community Room.  We need to keep the schools front and center at every town meeting. All you have to do is show up and ask a question or make a comment in support of funding our schools\, and say why this matters to you. \nThank you! \nFind your district # on this map: https://www.amherstma.gov/DocumentCenter/View/44829/Districts–Precincts-Map—Updated-April-2022?bidId= \nFind your town councilors here: https://www.amherstma.gov/3676/Meet-Your-Town-Council \n  \n 
URL:https://www.arpsparents.com/event/district-4-meeting-in-person-only/
LOCATION:Amherst Police Department Community Room\, 111 Main St.\, Amherst\, 01002
END:VEVENT
END:VCALENDAR