BEGIN:VCALENDAR
VERSION:2.0
PRODID:-//SOS Amherst - ECPv6.15.20//NONSGML v1.0//EN
CALSCALE:GREGORIAN
METHOD:PUBLISH
X-WR-CALNAME:SOS Amherst
X-ORIGINAL-URL:https://www.arpsparents.com
X-WR-CALDESC:Events for SOS Amherst
REFRESH-INTERVAL;VALUE=DURATION:PT1H
X-Robots-Tag:noindex
X-PUBLISHED-TTL:PT1H
BEGIN:VTIMEZONE
TZID:America/New_York
BEGIN:DAYLIGHT
TZOFFSETFROM:-0500
TZOFFSETTO:-0400
TZNAME:EDT
DTSTART:20240310T070000
END:DAYLIGHT
BEGIN:STANDARD
TZOFFSETFROM:-0400
TZOFFSETTO:-0500
TZNAME:EST
DTSTART:20241103T060000
END:STANDARD
BEGIN:DAYLIGHT
TZOFFSETFROM:-0500
TZOFFSETTO:-0400
TZNAME:EDT
DTSTART:20250309T070000
END:DAYLIGHT
BEGIN:STANDARD
TZOFFSETFROM:-0400
TZOFFSETTO:-0500
TZNAME:EST
DTSTART:20251102T060000
END:STANDARD
BEGIN:DAYLIGHT
TZOFFSETFROM:-0500
TZOFFSETTO:-0400
TZNAME:EDT
DTSTART:20260308T070000
END:DAYLIGHT
BEGIN:STANDARD
TZOFFSETFROM:-0400
TZOFFSETTO:-0500
TZNAME:EST
DTSTART:20261101T060000
END:STANDARD
END:VTIMEZONE
BEGIN:VEVENT
DTSTART;TZID=America/New_York:20250227T183000
DTEND;TZID=America/New_York:20250227T183000
DTSTAMP:20260420T060947
CREATED:20250122T125558Z
LAST-MODIFIED:20250226T221238Z
UID:2556-1740681000-1740681000@www.arpsparents.com
SUMMARY:Amherst School Committee Elementary Schools Budget Hearing (IMPORTANT to make Public Comments)
DESCRIPTION:Amherst School Committee will hold their annual ELEMENTARY SCHOOLS budget hearing on Thursday February 27th at 6:30 PM in the ARHS library.   \nThis budget hearing is the main opportunity for the public to weigh in on the Amherst Schools budget for next year. \n \n\n\n\nThe Elementary Schools budget contains $1\,561\,314 worth of reductions and impacts the following positions: (Budget Book Part 1\, Budget Book Part 2)\n\nThree Special Education Teacher positions (one at each of Crocker Farm\, Fort River and Wildwood) eliminated\nOne Special Education Reading Teacher position eliminated\nOne Building Blocks/AIMS Teacher position eliminated\nOne Crocker Farm Kindergarten Teacher position eliminated\nOne Wildwood General Education Teacher position eliminated\nOne Caminantes Paraeducator position eliminated\nOne ELL Paraeducator position eliminated\nOne Crocker Farm Kindergarten Paraeducator position eliminated\nAll specials/band/orchestra teachers reduced from full time to .9\n3.4 Central Office positions reduced/eliminated\n\n\n\n\n\n6:30 PM\nIn-Person Meeting and virtual at https://meet.google.com/fbb-fwur-odp\nLibrary at ARHS\nPublic comment can be emailed to SCpubliccomment@arps.org by 3 p.m. on the day of the meeting. Public comment can also be left by voicemail (under 3 minutes) at 413-362-1891 by 3 p.m. on the day of the meeting.\nThis meeting will be shown via live-stream on Amherst Media (Channel 15) \n 
URL:https://www.arpsparents.com/event/amherst-school-committee-budget-hearing-public-comment/
LOCATION:Amherst Regional High School library
END:VEVENT
END:VCALENDAR