BEGIN:VCALENDAR
VERSION:2.0
PRODID:-//SOS Amherst - ECPv6.15.20//NONSGML v1.0//EN
CALSCALE:GREGORIAN
METHOD:PUBLISH
X-WR-CALNAME:SOS Amherst
X-ORIGINAL-URL:https://www.arpsparents.com
X-WR-CALDESC:Events for SOS Amherst
REFRESH-INTERVAL;VALUE=DURATION:PT1H
X-Robots-Tag:noindex
X-PUBLISHED-TTL:PT1H
BEGIN:VTIMEZONE
TZID:America/New_York
BEGIN:DAYLIGHT
TZOFFSETFROM:-0500
TZOFFSETTO:-0400
TZNAME:EDT
DTSTART:20240310T070000
END:DAYLIGHT
BEGIN:STANDARD
TZOFFSETFROM:-0400
TZOFFSETTO:-0500
TZNAME:EST
DTSTART:20241103T060000
END:STANDARD
BEGIN:DAYLIGHT
TZOFFSETFROM:-0500
TZOFFSETTO:-0400
TZNAME:EDT
DTSTART:20250309T070000
END:DAYLIGHT
BEGIN:STANDARD
TZOFFSETFROM:-0400
TZOFFSETTO:-0500
TZNAME:EST
DTSTART:20251102T060000
END:STANDARD
BEGIN:DAYLIGHT
TZOFFSETFROM:-0500
TZOFFSETTO:-0400
TZNAME:EDT
DTSTART:20260308T070000
END:DAYLIGHT
BEGIN:STANDARD
TZOFFSETFROM:-0400
TZOFFSETTO:-0500
TZNAME:EST
DTSTART:20261101T060000
END:STANDARD
END:VTIMEZONE
BEGIN:VEVENT
DTSTART;TZID=America/New_York:20250304T183000
DTEND;TZID=America/New_York:20250304T200000
DTSTAMP:20260420T060920
CREATED:20250218T215423Z
LAST-MODIFIED:20250218T215904Z
UID:2702-1741113000-1741118400@www.arpsparents.com
SUMMARY:District 2 Meeting (virtual only)
DESCRIPTION:Join via Zoom: https://amherstma.zoom.us/j/88632449587 \nFind your district # on this map: https://www.amherstma.gov/DocumentCenter/View/44829/Districts–Precincts-Map—Updated-April-2022?bidId= \nFind your town councilors here: https://www.amherstma.gov/3676/Meet-Your-Town-Council
URL:https://www.arpsparents.com/event/district-2-meeting-virtual-only/
END:VEVENT
BEGIN:VEVENT
DTSTART;TZID=America/New_York:20250304T183000
DTEND;TZID=America/New_York:20250304T183000
DTSTAMP:20260420T060920
CREATED:20250227T125247Z
LAST-MODIFIED:20250227T125418Z
UID:2752-1741113000-1741113000@www.arpsparents.com
SUMMARY:State level advocacy with MARS (virtual)
DESCRIPTION:Senator Lewis has introduced two critical bills to strengthen public education funding: \n\nSD.1912: An Act to Ensure Adequate and Equitable Funding for Public Education\nSD.1237: An Act Increasing the Commonwealth’s Share of the Education Foundation Budget\n\nIf successful\, these bills will eventually provide much-needed financial relief to school districts across the Commonwealth. However\, it will likely be a few years before any formula changes are complete. If an interim solution is not provided\, districts and municipalities will be forced to continue cutting essential services and programs just to survive. \nMARS has been working with the Massachusetts Association of School Superintendents (MASS)\, the Massachusetts Association of School Business Officials (MASBO)\, the Massachusetts Teachers Association (MTA)\, and the American Federation of Teachers (AFT) to develop a K-12 funding proposal that we believe will bring much-needed relief to school districts and municipalities for FY 26. The proposal can be found here: K-12 Funding Proposal. \nWe encourage you to review this proposal and to join us on March 4\, 2025\, at 6:30 PM for a Zoom meeting. We will discuss the details and rationale behind each item in the proposal. We will also talk about advocacy steps that need to be taken to get the necessary attention from the state legislature and send a clear and consistent message that additional K-12 funding is imperative in FY 26. \nYou can register to join the Zoom meeting by following this link: Project 211 + 21: Uniting to Advocate for Increased K-12 Education Funding Once you have registered\, you will receive an email with a link to join the meeting.
URL:https://www.arpsparents.com/event/state-level-advocacy-with-mars-virtual/
END:VEVENT
END:VCALENDAR