BEGIN:VCALENDAR
VERSION:2.0
PRODID:-//SOS Amherst - ECPv6.15.20//NONSGML v1.0//EN
CALSCALE:GREGORIAN
METHOD:PUBLISH
X-WR-CALNAME:SOS Amherst
X-ORIGINAL-URL:https://www.arpsparents.com
X-WR-CALDESC:Events for SOS Amherst
REFRESH-INTERVAL;VALUE=DURATION:PT1H
X-Robots-Tag:noindex
X-PUBLISHED-TTL:PT1H
BEGIN:VTIMEZONE
TZID:America/New_York
BEGIN:DAYLIGHT
TZOFFSETFROM:-0500
TZOFFSETTO:-0400
TZNAME:EDT
DTSTART:20240310T070000
END:DAYLIGHT
BEGIN:STANDARD
TZOFFSETFROM:-0400
TZOFFSETTO:-0500
TZNAME:EST
DTSTART:20241103T060000
END:STANDARD
BEGIN:DAYLIGHT
TZOFFSETFROM:-0500
TZOFFSETTO:-0400
TZNAME:EDT
DTSTART:20250309T070000
END:DAYLIGHT
BEGIN:STANDARD
TZOFFSETFROM:-0400
TZOFFSETTO:-0500
TZNAME:EST
DTSTART:20251102T060000
END:STANDARD
BEGIN:DAYLIGHT
TZOFFSETFROM:-0500
TZOFFSETTO:-0400
TZNAME:EDT
DTSTART:20260308T070000
END:DAYLIGHT
BEGIN:STANDARD
TZOFFSETFROM:-0400
TZOFFSETTO:-0500
TZNAME:EST
DTSTART:20261101T060000
END:STANDARD
END:VTIMEZONE
BEGIN:VEVENT
DTSTART;TZID=America/New_York:20250324T110000
DTEND;TZID=America/New_York:20250324T120000
DTSTAMP:20260420T060905
CREATED:20250309T151852Z
LAST-MODIFIED:20250309T152002Z
UID:2861-1742814000-1742817600@www.arpsparents.com
SUMMARY:MA Public Hearing on Local and School Aid (in person at UMass)
DESCRIPTION:The Massachusetts Joint Committee on Ways and Means will hold a public hearing on local and school aid on Monday March 24th\, 11 am\, at the Campus Center on the UMASS Campus. Attend and advocate for equitable school funding that won’t leave out communities like Amherst\, especially reform to the charter tuition reimbursement formula.
URL:https://www.arpsparents.com/event/ma-public-hearing-on-local-and-school-aid-in-person-at-umass/
LOCATION:UMass Campus Center\, 1 Campus Center Way\, Amherst\, 01002
END:VEVENT
BEGIN:VEVENT
DTSTART;TZID=America/New_York:20250324T180000
DTEND;TZID=America/New_York:20250324T183000
DTSTAMP:20260420T060905
CREATED:20250321T112829Z
LAST-MODIFIED:20250321T112829Z
UID:3082-1742839200-1742841000@www.arpsparents.com
SUMMARY:Support Our Schools Rally!
DESCRIPTION:If you only can come to one thing\, this is it!  Attend and make sure to make your public comment in person\, virtually\, or via email. \nDetails here: https://www.arpsparents.com/rally-3-24-25/ \n 
URL:https://www.arpsparents.com/event/support-our-schools-rally/
ORGANIZER;CN="SOS Amherst":MAILTO:SOSAmherst@gmail.com
END:VEVENT
BEGIN:VEVENT
DTSTART;TZID=America/New_York:20250324T183000
DTEND;TZID=America/New_York:20250324T203000
DTSTAMP:20260420T060905
CREATED:20250309T151420Z
LAST-MODIFIED:20250321T174950Z
UID:2857-1742841000-1742848200@www.arpsparents.com
SUMMARY:Town Council Meeting (public comment - in person & virtual)
DESCRIPTION:Town of Amherst\nRegular Town Council Meeting\nMonday\, March 24\, 2025\, 6:30 p.m.\nTown Room\, Town Hall \n  \nVirtual Public Access: https://amherstma.zoom.us/j/81607142246 \nAgenda \nNote: Members of the public may attend virtually via Zoom\, by phone by calling phone (301) 715-8592\, enter webinar ID: 816 0714 2246\, or in person. \nThe meeting will also be live broadcast on Amherst Media channel 17 and https://amherstmedia.org/live-stream \n  \n\nSOS Amherst will rally immediately before this meeting. \nSummary of issues are here: https://www.arpsparents.com/rally-3-24-25/
URL:https://www.arpsparents.com/event/town-council-meeting-3/
END:VEVENT
END:VCALENDAR