BEGIN:VCALENDAR
VERSION:2.0
PRODID:-//SOS Amherst - ECPv6.15.20//NONSGML v1.0//EN
CALSCALE:GREGORIAN
METHOD:PUBLISH
X-WR-CALNAME:SOS Amherst
X-ORIGINAL-URL:https://www.arpsparents.com
X-WR-CALDESC:Events for SOS Amherst
REFRESH-INTERVAL;VALUE=DURATION:PT1H
X-Robots-Tag:noindex
X-PUBLISHED-TTL:PT1H
BEGIN:VTIMEZONE
TZID:America/New_York
BEGIN:DAYLIGHT
TZOFFSETFROM:-0500
TZOFFSETTO:-0400
TZNAME:EDT
DTSTART:20240310T070000
END:DAYLIGHT
BEGIN:STANDARD
TZOFFSETFROM:-0400
TZOFFSETTO:-0500
TZNAME:EST
DTSTART:20241103T060000
END:STANDARD
BEGIN:DAYLIGHT
TZOFFSETFROM:-0500
TZOFFSETTO:-0400
TZNAME:EDT
DTSTART:20250309T070000
END:DAYLIGHT
BEGIN:STANDARD
TZOFFSETFROM:-0400
TZOFFSETTO:-0500
TZNAME:EST
DTSTART:20251102T060000
END:STANDARD
BEGIN:DAYLIGHT
TZOFFSETFROM:-0500
TZOFFSETTO:-0400
TZNAME:EDT
DTSTART:20260308T070000
END:DAYLIGHT
BEGIN:STANDARD
TZOFFSETFROM:-0400
TZOFFSETTO:-0500
TZNAME:EST
DTSTART:20261101T060000
END:STANDARD
END:VTIMEZONE
BEGIN:VEVENT
DTSTART;TZID=America/New_York:20250326T183000
DTEND;TZID=America/New_York:20250326T203000
DTSTAMP:20260420T060948
CREATED:20250325T191727Z
LAST-MODIFIED:20250325T191727Z
UID:3101-1743013800-1743021000@www.arpsparents.com
SUMMARY:Amherst School Committee Meeting (elementary schools)
DESCRIPTION:Amherst School Committee\nWednesday\, March 26\, 2025\n6:30 PM\nIn-person meeting at Amherst-Pelham Regional High School library (side entrance)\, 21 Mattoon St.\nThis meeting will be shown via live-stream on Amherst Media (Channel 15)\nPublic comment can be emailed to SCpubliccomment@arps.org or left by voicemail (under 3 minutes) at 413-362-1891 by 3 PM on the day of the meeting.\nPosted 3/20/25 at 4:15 PM\n\n\n\n\n1. MEETING OPENING/STANDING AGENDA ITEMS\n\n\nA. Call to Order\n\n\nB. Public Comment\n\n\n\n\n\n\n2. NEW AND CONTINUING BUSINESS\n\n\nA. FY26 fees: Preschool\, musical instrument rental\, school meals\nThis Agenda Item Contains an Attachment.\n\nB. FY26 Operating Budget\nThis Agenda Item Contains an Attachment.\n\n\n\n\n\n3. MEETING CLOSING\n\n\nA. Future Agenda Planning\n\n\nB. Adjourn
URL:https://www.arpsparents.com/event/amherst-school-committee-meeting-elementary-schools/
LOCATION:Amherst Regional High School library
END:VEVENT
END:VCALENDAR