BEGIN:VCALENDAR
VERSION:2.0
PRODID:-//SOS Amherst - ECPv6.15.20//NONSGML v1.0//EN
CALSCALE:GREGORIAN
METHOD:PUBLISH
X-ORIGINAL-URL:https://www.arpsparents.com
X-WR-CALDESC:Events for SOS Amherst
REFRESH-INTERVAL;VALUE=DURATION:PT1H
X-Robots-Tag:noindex
X-PUBLISHED-TTL:PT1H
BEGIN:VTIMEZONE
TZID:America/New_York
BEGIN:DAYLIGHT
TZOFFSETFROM:-0500
TZOFFSETTO:-0400
TZNAME:EDT
DTSTART:20240310T070000
END:DAYLIGHT
BEGIN:STANDARD
TZOFFSETFROM:-0400
TZOFFSETTO:-0500
TZNAME:EST
DTSTART:20241103T060000
END:STANDARD
BEGIN:DAYLIGHT
TZOFFSETFROM:-0500
TZOFFSETTO:-0400
TZNAME:EDT
DTSTART:20250309T070000
END:DAYLIGHT
BEGIN:STANDARD
TZOFFSETFROM:-0400
TZOFFSETTO:-0500
TZNAME:EST
DTSTART:20251102T060000
END:STANDARD
BEGIN:DAYLIGHT
TZOFFSETFROM:-0500
TZOFFSETTO:-0400
TZNAME:EDT
DTSTART:20260308T070000
END:DAYLIGHT
BEGIN:STANDARD
TZOFFSETFROM:-0400
TZOFFSETTO:-0500
TZNAME:EST
DTSTART:20261101T060000
END:STANDARD
END:VTIMEZONE
BEGIN:VEVENT
DTSTART;TZID=America/New_York:20250402T190000
DTEND;TZID=America/New_York:20250402T203000
DTSTAMP:20260420T043102
CREATED:20250328T111102Z
LAST-MODIFIED:20250328T111129Z
UID:3140-1743620400-1743625800@www.arpsparents.com
SUMMARY:ARPS School Committee Challenges and Successes (virtual - free registration required)
DESCRIPTION:ARPS School Committee Challenges and Successes\n\nWednesday\, April 2\, 2025\nJoin in conversation with Amherst School Committee Chair Jennifer Shiao and Secretary Deb Leonard on the top issues facing local schools. How are diversity\, equity and inclusion programs being handled in Amherst\, given the new directives from Washington? \n\n\n\n\nEvent Details: \nWednesday\, April 2\n7:00 to 8:30 pm\nZoom \nRegister at lwvamherst.org to to hear directly from elected School leadership and ask questions about your concerns. \nSponsored by the League of Women Voters of Amherst Racial Justice Committee.
URL:https://www.arpsparents.com/event/arps-school-committee-challenges-and-successes-virtual-free-registration-required/
END:VEVENT
END:VCALENDAR