BEGIN:VCALENDAR
VERSION:2.0
PRODID:-//SOS Amherst - ECPv6.15.20//NONSGML v1.0//EN
CALSCALE:GREGORIAN
METHOD:PUBLISH
X-WR-CALNAME:SOS Amherst
X-ORIGINAL-URL:https://www.arpsparents.com
X-WR-CALDESC:Events for SOS Amherst
REFRESH-INTERVAL;VALUE=DURATION:PT1H
X-Robots-Tag:noindex
X-PUBLISHED-TTL:PT1H
BEGIN:VTIMEZONE
TZID:America/New_York
BEGIN:DAYLIGHT
TZOFFSETFROM:-0500
TZOFFSETTO:-0400
TZNAME:EDT
DTSTART:20240310T070000
END:DAYLIGHT
BEGIN:STANDARD
TZOFFSETFROM:-0400
TZOFFSETTO:-0500
TZNAME:EST
DTSTART:20241103T060000
END:STANDARD
BEGIN:DAYLIGHT
TZOFFSETFROM:-0500
TZOFFSETTO:-0400
TZNAME:EDT
DTSTART:20250309T070000
END:DAYLIGHT
BEGIN:STANDARD
TZOFFSETFROM:-0400
TZOFFSETTO:-0500
TZNAME:EST
DTSTART:20251102T060000
END:STANDARD
BEGIN:DAYLIGHT
TZOFFSETFROM:-0500
TZOFFSETTO:-0400
TZNAME:EDT
DTSTART:20260308T070000
END:DAYLIGHT
BEGIN:STANDARD
TZOFFSETFROM:-0400
TZOFFSETTO:-0500
TZNAME:EST
DTSTART:20261101T060000
END:STANDARD
END:VTIMEZONE
BEGIN:VEVENT
DTSTART;TZID=America/New_York:20250407T080000
DTEND;TZID=America/New_York:20250407T090000
DTSTAMP:20260420T042731
CREATED:20250318T204700Z
LAST-MODIFIED:20250318T204934Z
UID:2972-1744012800-1744016400@www.arpsparents.com
SUMMARY:Coffee with State Rep. Mindy Dombs - 1st Monday of the month
DESCRIPTION:Please advocate to Amherst’s state Rep Mindy Domb at her monthly coffee gatherings at The Works in downtown Amherst. \nMore info is here: https://www.arpsparents.com/advocate-to-your-state-reps-now/
URL:https://www.arpsparents.com/event/coffee-with-state-rep-mindy-dombs-1st-monday-of-the-month/
LOCATION:The Works\, 48 N. Pleasant St\, Amherst
END:VEVENT
BEGIN:VEVENT
DTSTART;TZID=America/New_York:20250407T183000
DTEND;TZID=America/New_York:20250407T203000
DTSTAMP:20260420T042731
CREATED:20250309T151610Z
LAST-MODIFIED:20250404T120025Z
UID:2859-1744050600-1744057800@www.arpsparents.com
SUMMARY:Town Council Meeting (please show up!)
DESCRIPTION:What: Town Council Meeting \nWhen:  Monday April 7th\, 6:30 PM\nWhere/How: In person at Town Hall or via Zoom\nAnd/or email your Town Councilors\nWhat to ask: Change the budget guidelines to direct the Town Manager to include the amount requested by the schools in the FY26 budget and vote yes to the Regional Schools budget as passed by the School Committee. These budgets restore the most essential positions and still require deep cuts – they are a fraction of what our schools need and the Town can afford it.\n\nOn Monday April 7th\, Town Council will continue its discussion of Councilor Ana Devlin Gauthier’s proposal to increase the percentage for the schools for FY26 by amending the budget guidelines. As far as the Elementary School budget goes\, unless the Council amends the guidelines\, the Town Manager can give the schools a lower budget amount than requested\, and the Council can’t increase it. So\, this is important. Please see the awesome attached graphic Geneva made to illustrate our current situation and where we go from here.\n\nAlso on the agenda is the Regional Schools budget – it seems that this budget really should go directly to the Town Council as they\, and not the manager\, are the “appropriating authority”.  It looks like they are scheduling a public hearing on the Regional Budget for Monday April 28th – so please save that date!\n\nMany of us already showed up in person or via Zoom\, but it appears that we just have to keep reminding them that we still care – so if you are able\, please try to join Monday’s meeting in-person or via Zoom to make a comment and/or directly email your District Councilors (plus at large Councilors) before Monday. Find all the resources you need on the SOS Website. There is a public hearing about CPA funds at the beginning of the Council meeting\, so public comment could start closer to 7-7:30\, but please be alert as the Council President has been known to flip the agenda.\n\n\n\n\n  \n  \n 
URL:https://www.arpsparents.com/event/town-council-meeting-advocacy-needed/
LOCATION:Amherst Town Hall\, 4 Boltwood Ave.\, Amherst
END:VEVENT
END:VCALENDAR