BEGIN:VCALENDAR
VERSION:2.0
PRODID:-//SOS Amherst - ECPv6.15.20//NONSGML v1.0//EN
CALSCALE:GREGORIAN
METHOD:PUBLISH
X-WR-CALNAME:SOS Amherst
X-ORIGINAL-URL:https://www.arpsparents.com
X-WR-CALDESC:Events for SOS Amherst
REFRESH-INTERVAL;VALUE=DURATION:PT1H
X-Robots-Tag:noindex
X-PUBLISHED-TTL:PT1H
BEGIN:VTIMEZONE
TZID:America/New_York
BEGIN:DAYLIGHT
TZOFFSETFROM:-0500
TZOFFSETTO:-0400
TZNAME:EDT
DTSTART:20240310T070000
END:DAYLIGHT
BEGIN:STANDARD
TZOFFSETFROM:-0400
TZOFFSETTO:-0500
TZNAME:EST
DTSTART:20241103T060000
END:STANDARD
BEGIN:DAYLIGHT
TZOFFSETFROM:-0500
TZOFFSETTO:-0400
TZNAME:EDT
DTSTART:20250309T070000
END:DAYLIGHT
BEGIN:STANDARD
TZOFFSETFROM:-0400
TZOFFSETTO:-0500
TZNAME:EST
DTSTART:20251102T060000
END:STANDARD
BEGIN:DAYLIGHT
TZOFFSETFROM:-0500
TZOFFSETTO:-0400
TZNAME:EDT
DTSTART:20260308T070000
END:DAYLIGHT
BEGIN:STANDARD
TZOFFSETFROM:-0400
TZOFFSETTO:-0500
TZNAME:EST
DTSTART:20261101T060000
END:STANDARD
END:VTIMEZONE
BEGIN:VEVENT
DTSTART;TZID=America/New_York:20250508T090000
DTEND;TZID=America/New_York:20250508T110000
DTSTAMP:20260420T042736
CREATED:20250422T123301Z
LAST-MODIFIED:20250422T123301Z
UID:3263-1746694800-1746702000@www.arpsparents.com
SUMMARY:Finance Committee Meeting discussing elementary and regional school budgets (virtual; public comment)
DESCRIPTION:Finance Committee Meeting discussing the Elementary Schools and Regional Schools budgets – with school leadership in attendance. \nIn May\, the Finance Committee Meeting goes through each section of the Town Budget section by section and leadership from various departments attend to answer questions – 5/8 is the schools portion of these meetings. Link to agenda with zoom link here. This is a virtual only meeting. There is a public comment period. \n  \nVirtual Meeting: https://amherstma.zoom.us/j/82249233706 \nLIST OF TOPICS: \n\nCall to Order\, review agenda\nPublic Comment:\nFY26 Budget Review:\n\nRegional Schools\nElementary Schools\n\n\nItems not anticipated by the Chair 48 Hours in advance\nAdjourn
URL:https://www.arpsparents.com/event/finance-committee-meeting-discussing-elementary-and-regional-school-budgets-virtual-public-comment/
END:VEVENT
END:VCALENDAR