BEGIN:VCALENDAR
VERSION:2.0
PRODID:-//SOS Amherst - ECPv6.15.20//NONSGML v1.0//EN
CALSCALE:GREGORIAN
METHOD:PUBLISH
X-ORIGINAL-URL:https://www.arpsparents.com
X-WR-CALDESC:Events for SOS Amherst
REFRESH-INTERVAL;VALUE=DURATION:PT1H
X-Robots-Tag:noindex
X-PUBLISHED-TTL:PT1H
BEGIN:VTIMEZONE
TZID:America/New_York
BEGIN:DAYLIGHT
TZOFFSETFROM:-0500
TZOFFSETTO:-0400
TZNAME:EDT
DTSTART:20240310T070000
END:DAYLIGHT
BEGIN:STANDARD
TZOFFSETFROM:-0400
TZOFFSETTO:-0500
TZNAME:EST
DTSTART:20241103T060000
END:STANDARD
BEGIN:DAYLIGHT
TZOFFSETFROM:-0500
TZOFFSETTO:-0400
TZNAME:EDT
DTSTART:20250309T070000
END:DAYLIGHT
BEGIN:STANDARD
TZOFFSETFROM:-0400
TZOFFSETTO:-0500
TZNAME:EST
DTSTART:20251102T060000
END:STANDARD
BEGIN:DAYLIGHT
TZOFFSETFROM:-0500
TZOFFSETTO:-0400
TZNAME:EDT
DTSTART:20260308T070000
END:DAYLIGHT
BEGIN:STANDARD
TZOFFSETFROM:-0400
TZOFFSETTO:-0500
TZNAME:EST
DTSTART:20261101T060000
END:STANDARD
END:VTIMEZONE
BEGIN:VEVENT
DTSTART;TZID=America/New_York:20251019T100000
DTEND;TZID=America/New_York:20251019T113000
DTSTAMP:20260419T174744
CREATED:20251008T105249Z
LAST-MODIFIED:20251008T105404Z
UID:3547-1760868000-1760873400@www.arpsparents.com
SUMMARY:District 5 meeting
DESCRIPTION:District 5 Meeting – Bob Hegner and Ana Devlin Gauthier are holding a District 5 meeting on Sunday October 19th at 10am – it seems to be TBD whether it is in-person or via Zoom but we will update here when known. \nNot sure what district you are in? Check out the map here or look up your address here. District 5 is an uncontested race in this election with Bob Hegner stepping down and only newcomer Sam McCleod and incumbent Ana Devlin Gauthier running. \nDo you agree with one of your current councilperson’s September 2025 comments that we know that we just need to throw money at the roads\, but with the schools it’s “partly a dollar issue and it’s partly we don’t know what goes on within the schools.” Use some Resources to educate District 5 Councilpeople and your neighbors about what is going on with the schools — this information is well known.
URL:https://www.arpsparents.com/event/district-5-meeting/
END:VEVENT
END:VCALENDAR