BEGIN:VCALENDAR
VERSION:2.0
PRODID:-//SOS Amherst - ECPv6.15.20//NONSGML v1.0//EN
CALSCALE:GREGORIAN
METHOD:PUBLISH
X-ORIGINAL-URL:https://www.arpsparents.com
X-WR-CALDESC:Events for SOS Amherst
REFRESH-INTERVAL;VALUE=DURATION:PT1H
X-Robots-Tag:noindex
X-PUBLISHED-TTL:PT1H
BEGIN:VTIMEZONE
TZID:America/New_York
BEGIN:DAYLIGHT
TZOFFSETFROM:-0500
TZOFFSETTO:-0400
TZNAME:EDT
DTSTART:20240310T070000
END:DAYLIGHT
BEGIN:STANDARD
TZOFFSETFROM:-0400
TZOFFSETTO:-0500
TZNAME:EST
DTSTART:20241103T060000
END:STANDARD
BEGIN:DAYLIGHT
TZOFFSETFROM:-0500
TZOFFSETTO:-0400
TZNAME:EDT
DTSTART:20250309T070000
END:DAYLIGHT
BEGIN:STANDARD
TZOFFSETFROM:-0400
TZOFFSETTO:-0500
TZNAME:EST
DTSTART:20251102T060000
END:STANDARD
BEGIN:DAYLIGHT
TZOFFSETFROM:-0500
TZOFFSETTO:-0400
TZNAME:EDT
DTSTART:20260308T070000
END:DAYLIGHT
BEGIN:STANDARD
TZOFFSETFROM:-0400
TZOFFSETTO:-0500
TZNAME:EST
DTSTART:20261101T060000
END:STANDARD
END:VTIMEZONE
BEGIN:VEVENT
DTSTART;TZID=America/New_York:20251024T183000
DTEND;TZID=America/New_York:20251024T203000
DTSTAMP:20260419T193341
CREATED:20251020T111024Z
LAST-MODIFIED:20251020T111537Z
UID:3642-1761330600-1761337800@www.arpsparents.com
SUMMARY:Candidates debate  - At-Large and District 1 (in person & virtual)
DESCRIPTION:The Amherst Current will host two Town Council debates. The first debate\, featuring At-Large and District 1 candidates\, will be Friday\, October 24 from 6:30 to 8:30 PM in Room 101 of the Bangs Community Center and on Zoom. All four at-large candidates–Andrew Churchill\, Allegra Clark\, Mandi Jo Hanneke\, and Ellisha Walker–plus District 1 candidates Freke Ette and Vince O’Connor have agreed to participate. \nLivestream link \n—– \nFor SOS Amherst supporters\, this is a great opportunity to listen to how candidates frame the school funding conversation. Do they minimize and blame OR do they commit to securing full funding for our public schools? Find Amherst school fact sheet here. \n 
URL:https://www.arpsparents.com/event/candidates-debate-at-large-and-district-1-in-person-virtual/
LOCATION:Bangs Community Center\, 70 Boltwood Walk\, Amherst\, 01002
END:VEVENT
END:VCALENDAR