BEGIN:VCALENDAR
VERSION:2.0
PRODID:-//SOS Amherst - ECPv6.15.20//NONSGML v1.0//EN
CALSCALE:GREGORIAN
METHOD:PUBLISH
X-WR-CALNAME:SOS Amherst
X-ORIGINAL-URL:https://www.arpsparents.com
X-WR-CALDESC:Events for SOS Amherst
REFRESH-INTERVAL;VALUE=DURATION:PT1H
X-Robots-Tag:noindex
X-PUBLISHED-TTL:PT1H
BEGIN:VTIMEZONE
TZID:America/New_York
BEGIN:DAYLIGHT
TZOFFSETFROM:-0500
TZOFFSETTO:-0400
TZNAME:EDT
DTSTART:20230312T070000
END:DAYLIGHT
BEGIN:STANDARD
TZOFFSETFROM:-0400
TZOFFSETTO:-0500
TZNAME:EST
DTSTART:20231105T060000
END:STANDARD
BEGIN:DAYLIGHT
TZOFFSETFROM:-0500
TZOFFSETTO:-0400
TZNAME:EDT
DTSTART:20240310T070000
END:DAYLIGHT
BEGIN:STANDARD
TZOFFSETFROM:-0400
TZOFFSETTO:-0500
TZNAME:EST
DTSTART:20241103T060000
END:STANDARD
BEGIN:DAYLIGHT
TZOFFSETFROM:-0500
TZOFFSETTO:-0400
TZNAME:EDT
DTSTART:20250309T070000
END:DAYLIGHT
BEGIN:STANDARD
TZOFFSETFROM:-0400
TZOFFSETTO:-0500
TZNAME:EST
DTSTART:20251102T060000
END:STANDARD
END:VTIMEZONE
BEGIN:VEVENT
DTSTART;TZID=America/New_York:20240928T050000
DTEND;TZID=America/New_York:20240928T070000
DTSTAMP:20260420T011620
CREATED:20240925T190741Z
LAST-MODIFIED:20240926T225152Z
UID:1656-1727499600-1727506800@www.arpsparents.com
SUMMARY:Four Towns meeting (1st of 3)
DESCRIPTION:The purpose of this meeting is to start budget and funding discussions among\nthe Amherst-Pelham Regional School Committee and town officials from\nAmherst\, Pelham\, Shutesbury and Leverett for the 2025-2026 school year. \nSee up to date details on the Town Calendar. \n————- \nWhy does this meeting matter? \nAmherst regional budget fears prompt early four-towns meeting\nhttps://www.gazettenet.com/Amherst-Regional-School-Committee-gets-insights-into-finances-from-state-specialist-56735248 \n 
URL:https://www.arpsparents.com/event/four-towns-meeting-1st-of-3/
LOCATION:Amherst Regional Middle School – Library\, 170 Chestnut St\, Amherst\, MA
END:VEVENT
END:VCALENDAR