BEGIN:VCALENDAR
VERSION:2.0
PRODID:-//SOS Amherst - ECPv6.15.20//NONSGML v1.0//EN
CALSCALE:GREGORIAN
METHOD:PUBLISH
X-ORIGINAL-URL:https://www.arpsparents.com
X-WR-CALDESC:Events for SOS Amherst
REFRESH-INTERVAL;VALUE=DURATION:PT1H
X-Robots-Tag:noindex
X-PUBLISHED-TTL:PT1H
BEGIN:VTIMEZONE
TZID:America/New_York
BEGIN:DAYLIGHT
TZOFFSETFROM:-0500
TZOFFSETTO:-0400
TZNAME:EDT
DTSTART:20240310T070000
END:DAYLIGHT
BEGIN:STANDARD
TZOFFSETFROM:-0400
TZOFFSETTO:-0500
TZNAME:EST
DTSTART:20241103T060000
END:STANDARD
BEGIN:DAYLIGHT
TZOFFSETFROM:-0500
TZOFFSETTO:-0400
TZNAME:EDT
DTSTART:20250309T070000
END:DAYLIGHT
BEGIN:STANDARD
TZOFFSETFROM:-0400
TZOFFSETTO:-0500
TZNAME:EST
DTSTART:20251102T060000
END:STANDARD
BEGIN:DAYLIGHT
TZOFFSETFROM:-0500
TZOFFSETTO:-0400
TZNAME:EDT
DTSTART:20260308T070000
END:DAYLIGHT
BEGIN:STANDARD
TZOFFSETFROM:-0400
TZOFFSETTO:-0500
TZNAME:EST
DTSTART:20261101T060000
END:STANDARD
END:VTIMEZONE
BEGIN:VEVENT
DTSTART;TZID=America/New_York:20250113T183000
DTEND;TZID=America/New_York:20250113T193000
DTSTAMP:20260420T075231
CREATED:20241213T125630Z
LAST-MODIFIED:20241213T125630Z
UID:2480-1736793000-1736796600@www.arpsparents.com
SUMMARY:Town Council Meeting
DESCRIPTION:Save the date – January 13\, 2025 6:30 PM will be the first Town Council Meeting of 2025. Full 2025 meeting schedule available here.
URL:https://www.arpsparents.com/event/town-council-meeting-2/
END:VEVENT
BEGIN:VEVENT
DTSTART;TZID=America/New_York:20250127T183000
DTEND;TZID=America/New_York:20250127T183000
DTSTAMP:20260420T075231
CREATED:20250126T195129Z
LAST-MODIFIED:20250126T195443Z
UID:2559-1738002600-1738002600@www.arpsparents.com
SUMMARY:Amherst Town Council (in person or virtual; 3 min public comment)
DESCRIPTION:Amherst Town Council Meeting Monday 1/27 6:30 PM\, Town Hall or by Zoom \nNote: Members of the public may attend virtually via Zoom\, by phone by calling phone (301)\n715-8592\, enter webinar ID: 894 3661 9923\, or in person. The meeting will also be live\nbroadcast on Amherst Media channel 17 and https://amherstmedia.org/live-stream \n1. Call to Order\n2. Announcements\n3. Hearings – None\n4. General Public Comment\nResidents are welcome to express their views for up to 3 minutes\, at the discretion of\nthe Town Council President\, based upon the number of people who wish to speak.\nThe Council will not engage in a dialogue or comment on a matter raised during\nGeneral Public Comment. Public comments are not reflective of the opinions of the\nTown Council.\n5. Consent Agenda \n  \nLearn how to make a public comment here: https://www.arpsparents.com/resources/
URL:https://www.arpsparents.com/event/amherst-town-council-in-person-or-virtual-3-min-public-comment/
LOCATION:Amherst Town Hall\, 4 Boltwood Ave.\, Amherst
END:VEVENT
BEGIN:VEVENT
DTSTART;TZID=America/New_York:20250128T183000
DTEND;TZID=America/New_York:20250128T183000
DTSTAMP:20260420T075231
CREATED:20250126T195828Z
LAST-MODIFIED:20250126T200135Z
UID:2563-1738089000-1738089000@www.arpsparents.com
SUMMARY:Amherst Regional School Committee (in person & virtual; 3 min public comment)
DESCRIPTION:Amherst Regional School Committee joint meeting with Amherst School Committee\, Tuesday 1/28 6:30 PM\, ARHS Library\nhttps://go.boarddocs.com/ma/arps/Board.nsf/goto?open&id=DCZKN552A0E1\n\n\nPublic comment can be emailed to SCpubliccomment@arps.org by 3 p.m. on the day of the meeting. Public comment can also be left by voicemail (under 3 minutes) at 413-362-1891 by 3 p.m. on the day of the meeting.\nThis meeting will be shown via live-stream on Amherst Media (Channel 15)\n\n\nLearn how to make a public comment here: https://www.arpsparents.com/resources/
URL:https://www.arpsparents.com/event/amherst-regional-school-committee-in-person-3-min-public-comment/
LOCATION:Amherst Regional High School library
END:VEVENT
END:VCALENDAR