BEGIN:VCALENDAR
VERSION:2.0
PRODID:-//SOS Amherst - ECPv6.15.20//NONSGML v1.0//EN
CALSCALE:GREGORIAN
METHOD:PUBLISH
X-WR-CALNAME:SOS Amherst
X-ORIGINAL-URL:https://www.arpsparents.com
X-WR-CALDESC:Events for SOS Amherst
REFRESH-INTERVAL;VALUE=DURATION:PT1H
X-Robots-Tag:noindex
X-PUBLISHED-TTL:PT1H
BEGIN:VTIMEZONE
TZID:America/New_York
BEGIN:DAYLIGHT
TZOFFSETFROM:-0500
TZOFFSETTO:-0400
TZNAME:EDT
DTSTART:20240310T070000
END:DAYLIGHT
BEGIN:STANDARD
TZOFFSETFROM:-0400
TZOFFSETTO:-0500
TZNAME:EST
DTSTART:20241103T060000
END:STANDARD
BEGIN:DAYLIGHT
TZOFFSETFROM:-0500
TZOFFSETTO:-0400
TZNAME:EDT
DTSTART:20250309T070000
END:DAYLIGHT
BEGIN:STANDARD
TZOFFSETFROM:-0400
TZOFFSETTO:-0500
TZNAME:EST
DTSTART:20251102T060000
END:STANDARD
BEGIN:DAYLIGHT
TZOFFSETFROM:-0500
TZOFFSETTO:-0400
TZNAME:EDT
DTSTART:20260308T070000
END:DAYLIGHT
BEGIN:STANDARD
TZOFFSETFROM:-0400
TZOFFSETTO:-0500
TZNAME:EST
DTSTART:20261101T060000
END:STANDARD
END:VTIMEZONE
BEGIN:VEVENT
DTSTART;TZID=America/New_York:20251006T183000
DTEND;TZID=America/New_York:20251006T203000
DTSTAMP:20260419T135359
CREATED:20251004T160122Z
LAST-MODIFIED:20251004T160122Z
UID:3501-1759775400-1759782600@www.arpsparents.com
SUMMARY:Town Council Meeting (with vote on ARMS roof) - in person and virtual
DESCRIPTION:  \nTown of Amherst\nRegular Town Council Meeting\nMonday\, October 6\, 2025\, 6:45 p.m.\nTown Room\, Town Hall\nVirtual Public Access: https://amherstma.zoom.us/j/84640970670 \nAgenda \nNote: Members of the public may attend virtually via Zoom\, by phone by calling phone (301)\n715-8592\, enter webinar ID: 846 4097 0670\, or in person. The meeting will also be live\nbroadcast on Amherst Media channel 17 and https://amherstmedia.org/live-stream \n 
URL:https://www.arpsparents.com/event/town-council-meeting-with-vote-on-arms-roof-in-person-and-virtual/
LOCATION:Amherst Town Hall\, 4 Boltwood Ave.\, Amherst
END:VEVENT
BEGIN:VEVENT
DTSTART;TZID=America/New_York:20251015T181500
DTEND;TZID=America/New_York:20251015T204500
DTSTAMP:20260419T135359
CREATED:20251004T152725Z
LAST-MODIFIED:20251004T153552Z
UID:3491-1760552100-1760561100@www.arpsparents.com
SUMMARY:Candidate Forums - District 1\, 2\, 3 & 4
DESCRIPTION:Wednesday\, October 15\, 2025\nThe League of Women Voters is sponsoring 2 forums to learn the candidates for elective offices in Amherst. \n\n\n\n\nCandidate Forums: \n\nWednesday\, Oct 15 – Districts 1\, 2\, 3 & 4 Candidates\nThursday\, Oct 23 – At-Large Candidates School Committee Candidates\n\nEach forum begins with a meet and greet the candidates and light refreshments \nEach candidate will answer questions submitted by Amherst voters. The questions can be emailed to lwva@lwvamherst.org or written on index cards at the event.  The forums will be recorded and available on YouTube.
URL:https://www.arpsparents.com/event/candidate-forums-for-elective-offices-in-amherst/
LOCATION:Amherst Regional High School library
END:VEVENT
BEGIN:VEVENT
DTSTART;TZID=America/New_York:20251019T100000
DTEND;TZID=America/New_York:20251019T113000
DTSTAMP:20260419T135359
CREATED:20251008T105249Z
LAST-MODIFIED:20251008T105404Z
UID:3547-1760868000-1760873400@www.arpsparents.com
SUMMARY:District 5 meeting
DESCRIPTION:District 5 Meeting – Bob Hegner and Ana Devlin Gauthier are holding a District 5 meeting on Sunday October 19th at 10am – it seems to be TBD whether it is in-person or via Zoom but we will update here when known. \nNot sure what district you are in? Check out the map here or look up your address here. District 5 is an uncontested race in this election with Bob Hegner stepping down and only newcomer Sam McCleod and incumbent Ana Devlin Gauthier running. \nDo you agree with one of your current councilperson’s September 2025 comments that we know that we just need to throw money at the roads\, but with the schools it’s “partly a dollar issue and it’s partly we don’t know what goes on within the schools.” Use some Resources to educate District 5 Councilpeople and your neighbors about what is going on with the schools — this information is well known.
URL:https://www.arpsparents.com/event/district-5-meeting/
END:VEVENT
BEGIN:VEVENT
DTSTART;TZID=America/New_York:20251023T190000
DTEND;TZID=America/New_York:20251023T210000
DTSTAMP:20260419T135359
CREATED:20251004T153945Z
LAST-MODIFIED:20251004T153945Z
UID:3496-1761246000-1761253200@www.arpsparents.com
SUMMARY:Candidate Forums -- School Committee & At Large Council
DESCRIPTION:Thursday\, October 23\, 2025\nThe League of Women Voters is sponsoring 2 forums to learn the candidates for elective offices in Amherst. \n\n\n\n\nCandidate Forums: \n\nWednesday\, Oct 15 – Districts 1\, 2\, 3 & 4 Candidates\nThursday\, Oct 23 – At-Large Candidates School Committee Candidates\n\nEach forum will be preceded by a 30-minute “Meet and Greet the Candidates.” Because the positions of District 5 Councilor\, Library Trustees\, Housing Authority\, and Oliver Smith Will Elector are uncontested\, these individuals have been invited to the Meet and Greet events. All forums will take place in the Library at the Amherst-Pelham Regional High School\, 21 Mattoon Street\, Amherst. \nEach candidate will answer questions submitted by Amherst voters. The questions can be emailed to lwva@lwvamherst.org or written on index cards at the event.  The forums will be recorded and available on YouTube.
URL:https://www.arpsparents.com/event/candidate-forums-school-committee-at-large-council/
LOCATION:Amherst Regional High School library
END:VEVENT
BEGIN:VEVENT
DTSTART;TZID=America/New_York:20251024T183000
DTEND;TZID=America/New_York:20251024T203000
DTSTAMP:20260419T135359
CREATED:20251020T111024Z
LAST-MODIFIED:20251020T111537Z
UID:3642-1761330600-1761337800@www.arpsparents.com
SUMMARY:Candidates debate  - At-Large and District 1 (in person & virtual)
DESCRIPTION:The Amherst Current will host two Town Council debates. The first debate\, featuring At-Large and District 1 candidates\, will be Friday\, October 24 from 6:30 to 8:30 PM in Room 101 of the Bangs Community Center and on Zoom. All four at-large candidates–Andrew Churchill\, Allegra Clark\, Mandi Jo Hanneke\, and Ellisha Walker–plus District 1 candidates Freke Ette and Vince O’Connor have agreed to participate. \nLivestream link \n—– \nFor SOS Amherst supporters\, this is a great opportunity to listen to how candidates frame the school funding conversation. Do they minimize and blame OR do they commit to securing full funding for our public schools? Find Amherst school fact sheet here. \n 
URL:https://www.arpsparents.com/event/candidates-debate-at-large-and-district-1-in-person-virtual/
LOCATION:Bangs Community Center\, 70 Boltwood Walk\, Amherst\, 01002
END:VEVENT
BEGIN:VEVENT
DTSTART;TZID=America/New_York:20251027T193000
DTEND;TZID=America/New_York:20251027T213000
DTSTAMP:20260419T135359
CREATED:20251020T111509Z
LAST-MODIFIED:20251020T111509Z
UID:3644-1761593400-1761600600@www.arpsparents.com
SUMMARY:Candidates debate - Districts 2\, 3\, 4\, and 5  (in person & virtual)
DESCRIPTION:The Amherst Current is hosting two debates. The second debate will be Monday\, October 27 from 7:30 to 9:30 PM in the Bangs Center’s Large Activity Room and on Zoom\, featuring candidates from Districts 2\, 3\, 4\, and 5*. District 2 candidates Jason Dorney and Lynn Griesemer\, District 3 candidates Patrick Drumm and George Ryan\, District 4 candidates Dillon Maxfield and Jennifer Taub\, and District 5 candidate Ana Devlin Gauthier have agreed to participate. \nLivestream link \n—– \nFor SOS Amherst supporters\, this is a great opportunity to listen to how candidates frame the school funding conversation. Do they minimize and blame OR do they commit to securing full funding for our public schools? Find Amherst school fact sheet here.
URL:https://www.arpsparents.com/event/candidates-debate-districts-2-3-4-and-5-in-person-virtual/
LOCATION:Bangs Community Center\, 70 Boltwood Walk\, Amherst\, 01002
END:VEVENT
BEGIN:VEVENT
DTSTART;TZID=America/New_York:20251029T183000
DTEND;TZID=America/New_York:20251029T203000
DTSTAMP:20260419T135359
CREATED:20251021T111829Z
LAST-MODIFIED:20251021T111829Z
UID:3647-1761762600-1761769800@www.arpsparents.com
SUMMARY:District 1 meeting (in person)
DESCRIPTION:LIST OF TOPICS: Presentation by Planning Board: Potential Overlay Zoning for North Amherst Apartment Complexes: Potential Overlay to Allow Increased Density and Building Heigh for Student Housing: Puffton Village\, Brandywine Areas: Presentation of Maps and Concepts; Discussion: Questions and Comments; Suggestions for Future Agenda Items. \n  \n——- \nFor SOS Amherst supporters\, this is a great opportunity to listen to how candidates frame the school funding conversation. Do they minimize and blame OR do they commit to securing full funding for our public schools? Find Amherst school fact sheet here.
URL:https://www.arpsparents.com/event/district-1-meeting-in-person/
LOCATION:North Amherst Library Community Room\, 8 Montague Road\, Amherst\, 01002
END:VEVENT
END:VCALENDAR