BEGIN:VCALENDAR
VERSION:2.0
PRODID:-//SOS Amherst - ECPv6.15.20//NONSGML v1.0//EN
CALSCALE:GREGORIAN
METHOD:PUBLISH
X-WR-CALNAME:SOS Amherst
X-ORIGINAL-URL:https://www.arpsparents.com
X-WR-CALDESC:Events for SOS Amherst
REFRESH-INTERVAL;VALUE=DURATION:PT1H
X-Robots-Tag:noindex
X-PUBLISHED-TTL:PT1H
BEGIN:VTIMEZONE
TZID:America/New_York
BEGIN:DAYLIGHT
TZOFFSETFROM:-0500
TZOFFSETTO:-0400
TZNAME:EDT
DTSTART:20240310T070000
END:DAYLIGHT
BEGIN:STANDARD
TZOFFSETFROM:-0400
TZOFFSETTO:-0500
TZNAME:EST
DTSTART:20241103T060000
END:STANDARD
BEGIN:DAYLIGHT
TZOFFSETFROM:-0500
TZOFFSETTO:-0400
TZNAME:EDT
DTSTART:20250309T070000
END:DAYLIGHT
BEGIN:STANDARD
TZOFFSETFROM:-0400
TZOFFSETTO:-0500
TZNAME:EST
DTSTART:20251102T060000
END:STANDARD
BEGIN:DAYLIGHT
TZOFFSETFROM:-0500
TZOFFSETTO:-0400
TZNAME:EDT
DTSTART:20260308T070000
END:DAYLIGHT
BEGIN:STANDARD
TZOFFSETFROM:-0400
TZOFFSETTO:-0500
TZNAME:EST
DTSTART:20261101T060000
END:STANDARD
END:VTIMEZONE
BEGIN:VEVENT
DTSTART;TZID=America/New_York:20251114T080000
DTEND;TZID=America/New_York:20251114T093000
DTSTAMP:20260419T121352
CREATED:20251112T121208Z
LAST-MODIFIED:20251112T121208Z
UID:3788-1763107200-1763112600@www.arpsparents.com
SUMMARY:Cuppa' Joe with New Finance Director
DESCRIPTION:SOS Amherst supporters needed to attend and ask for SOLUTIONS to prevent school budget cuts. Not minimizing the issues or blaming the schools or the state. They need to know we are paying attention and showing up. \n—–\n\nCuppa’ Joe with Paul and New Finance Director Sean Mangano\n\nFriday\, November 14\, 2025\nCoffee and conversation with Amherst Town Manager Paul Bockelman and Finance Director Sean Mangano. The conversation will focus on the upcoming FY27 budget including revenue & expenditure projections\, potential challenges\, and capital projects. \n\n\n\nSean recently returned to the Town of Amherst after previously serving as the Town’s Finance Director from 2020 to 2023. Prior to this\, he held various roles with the Amherst-Pelham Regional School District\, including their Director of Finance. These experiences give him a comprehensive understanding of both municipal and school budgets\, as well as the complex relationship between educational and municipal financial needs. Sean is eager forward to return to Amherst and contribute his expertise as we approach the upcoming budget season.
URL:https://www.arpsparents.com/event/cuppa-joe-with-new-finance-director/
LOCATION:Futura Coffee Roasters\, 73 Cowls Rd\, Amherst\, 01002
END:VEVENT
BEGIN:VEVENT
DTSTART;TZID=America/New_York:20251117T180000
DTEND;TZID=America/New_York:20251117T190000
DTSTAMP:20260419T121352
CREATED:20251112T120441Z
LAST-MODIFIED:20251112T120441Z
UID:3782-1763402400-1763406000@www.arpsparents.com
SUMMARY:Budget rally at Town Hall!
DESCRIPTION:
URL:https://www.arpsparents.com/event/budget-rally-at-town-hall/
LOCATION:Amherst Town Hall\, 4 Boltwood Ave.\, Amherst
END:VEVENT
BEGIN:VEVENT
DTSTART;TZID=America/New_York:20251117T190000
DTEND;TZID=America/New_York:20251117T213000
DTSTAMP:20260419T121352
CREATED:20251108T144457Z
LAST-MODIFIED:20251112T120054Z
UID:3776-1763406000-1763415000@www.arpsparents.com
SUMMARY:**Public forum on Budget** Town Council Meeting (attend this one)
DESCRIPTION:More info To Be Announced. \nLive streamed: https://www.amherstma.gov/Calendar.aspx?EID=34342&month=11&year=2025&day=17&calType=0 \n— \nIt is critical to attend and/or provide comments at this Public Funding on the Budget. We will hear about the amount of surplus funds are available last year\, and many other details\, and this is the most important local advocacy of the year.  \n 
URL:https://www.arpsparents.com/event/public-forum-on-budget-town-council-meeting-attend-this-one/
LOCATION:Amherst Town Hall\, 4 Boltwood Ave.\, Amherst
END:VEVENT
BEGIN:VEVENT
DTSTART;TZID=America/New_York:20251118T160000
DTEND;TZID=America/New_York:20251118T180000
DTSTAMP:20260419T121352
CREATED:20251108T140409Z
LAST-MODIFIED:20251108T140409Z
UID:3750-1763481600-1763488800@www.arpsparents.com
SUMMARY:**Advocacy Alert** - State Funding Hearing (virtual)
DESCRIPTION:Finally we have the opportunity\, as Amherst and regional parents and community members\, to advocate for our public school funding at the state level. THIS is the chance we have been waiting for! \nRegister for the virtual state funding hearing here. \nSee more info at in this post: https://www.arpsparents.com/state-advocacy-alert-nov-18/ \n  \n 
URL:https://www.arpsparents.com/event/advocacy-alert-state-funding-hearing-virtual/
LOCATION:VIrtual (details above)
END:VEVENT
END:VCALENDAR