BEGIN:VCALENDAR
VERSION:2.0
PRODID:-//SOS Amherst - ECPv6.15.20//NONSGML v1.0//EN
CALSCALE:GREGORIAN
METHOD:PUBLISH
X-WR-CALNAME:SOS Amherst
X-ORIGINAL-URL:https://www.arpsparents.com
X-WR-CALDESC:Events for SOS Amherst
REFRESH-INTERVAL;VALUE=DURATION:PT1H
X-Robots-Tag:noindex
X-PUBLISHED-TTL:PT1H
BEGIN:VTIMEZONE
TZID:America/New_York
BEGIN:DAYLIGHT
TZOFFSETFROM:-0500
TZOFFSETTO:-0400
TZNAME:EDT
DTSTART:20250309T070000
END:DAYLIGHT
BEGIN:STANDARD
TZOFFSETFROM:-0400
TZOFFSETTO:-0500
TZNAME:EST
DTSTART:20251102T060000
END:STANDARD
BEGIN:DAYLIGHT
TZOFFSETFROM:-0500
TZOFFSETTO:-0400
TZNAME:EDT
DTSTART:20260308T070000
END:DAYLIGHT
BEGIN:STANDARD
TZOFFSETFROM:-0400
TZOFFSETTO:-0500
TZNAME:EST
DTSTART:20261101T060000
END:STANDARD
BEGIN:DAYLIGHT
TZOFFSETFROM:-0500
TZOFFSETTO:-0400
TZNAME:EDT
DTSTART:20270314T070000
END:DAYLIGHT
BEGIN:STANDARD
TZOFFSETFROM:-0400
TZOFFSETTO:-0500
TZNAME:EST
DTSTART:20271107T060000
END:STANDARD
END:VTIMEZONE
BEGIN:VEVENT
DTSTART;TZID=America/New_York:20260127T180000
DTEND;TZID=America/New_York:20260127T210000
DTSTAMP:20260419T083926
CREATED:20260127T231714Z
LAST-MODIFIED:20260127T231809Z
UID:3857-1769536800-1769547600@www.arpsparents.com
SUMMARY:Joint School Committee (at Town Hall)  - public comment
DESCRIPTION:Due to the School Districts being closed today\, tonight’s Joint School Committee meeting of the Amherst\, Regional and Pelham School Committees has been moved to the Amherst Town Hall\, in the Town Room. 4 Boltwood Avenue\, Amherst. \n  \n  \n6:00 PM\n**UPDATED LOCATION**\nAmherst Town Hall\nTown Room\n4 Boltwood Ave\, Amherst MA\n**Due to snow closures this meeting is being relocated** \nThis meeting will be shown via live-stream on Amherst Media (Channel 15)
URL:https://www.arpsparents.com/event/joint-school-committee-at-town-hall/
LOCATION:Amherst Town Hall\, 4 Boltwood Ave.\, Amherst
END:VEVENT
END:VCALENDAR